BEGIN:VCALENDAR
VERSION:2.0
PRODID:-//ChamberMaster//Event Calendar 2.0//EN
METHOD:PUBLISH
X-PUBLISHED-TTL:P3D
REFRESH-INTERVAL:P3D
CALSCALE:GREGORIAN
BEGIN:VEVENT
DTSTART:20220217T180000Z
DTEND:20220217T190000Z
X-MICROSOFT-CDO-ALLDAYEVENT:FALSE
SUMMARY:Young Professional Luncheon
DESCRIPTION:Join our Young Professional Committee for a fun time of networking.\n\nWe encourage our Chamber Member ages 21-41 to join us and experience presentations of topics related to personal and professional enhancement.\n\nThis meeting we'll be hearing from Jared Williams from "Get The Coast". We look forward to seeing you there!
X-ALT-DESC;FMTTYPE=text/html:<span style="color:#A52A2A\;"><span style="font-size:18px\;"><span style="font-family:arial\;">Join our Young Professional Committee for a fun time of networking.<br />\nWe encourage our Chamber Member ages 21-41 to join us and </span><span style="background:white\;"><span style="font-family:arial\,sans-serif\;">experience&nbsp\;</span></span><span style="font-family:arial\;">presentations of topics related to personal and professional enhancement.<br />\nThis meeting we&#39\;ll be hearing from Jared Williams from &quot\;Get The Coast&quot\;. We look forward to seeing you there!</span></span></span>
LOCATION:1447 Commerce Drive Crestview\, FL 32539
UID:e.1264.13248
SEQUENCE:3
DTSTAMP:20260421T001615Z
URL:https://business.crestviewchamber.com/events/details/young-professional-luncheon-02-17-2022-13248
END:VEVENT

END:VCALENDAR
