BEGIN:VCALENDAR
VERSION:2.0
PRODID:-//ChamberMaster//Event Calendar 2.0//EN
METHOD:PUBLISH
X-PUBLISHED-TTL:P3D
REFRESH-INTERVAL:P3D
CALSCALE:GREGORIAN
BEGIN:VEVENT
DTSTART:20170727T133000Z
DTEND:20170727T143000Z
X-MICROSOFT-CDO-ALLDAYEVENT:FALSE
SUMMARY:YOU JOINED THE CHAMBER\; NOW WHAT?
DESCRIPTION:YOU JOINED THE CHAMBER\; NOW WHAT?\n\n\n\nWhether you joined to increase business\, gain visibility in the community\, or create new relationships\, let us show you how to leverage all the resources the Crestview Chamber of Commerce makes available to you FREE with your annual membership.\n\n\n\n     GETTING THE MOST FROM YOUR MEMBERSHIP\n\n\n\nThursday\, July 27th @ 8:30am at the Crestview Chamber of Commerce\n\n	Managing your online presence to get more visitors to your business\n	FREE & paid marketing resources\n	Networking tips and strategies\n	and more....\n\nCall the Crestview Chamber at 850.682.3212 or email jpierson@crestviewchamber.com to reserve your spot!
X-ALT-DESC;FMTTYPE=text/html:<strong>YOU JOINED THE CHAMBER\; NOW WHAT?</strong><br />\n<br />\nWhether you joined to increase business\, gain visibility in the community\, or create new relationships\, let us show you how to leverage all the resources the Crestview Chamber of Commerce makes available to you FREE with your annual membership.<br />\n<br />\n&nbsp\;&nbsp\;&nbsp\;&nbsp\;&nbsp\;<strong>GETTING THE MOST FROM YOUR MEMBERSHIP</strong><br />\n<br />\nThursday\, July 27th @ 8:30am at the&nbsp\;Crestview Chamber of&nbsp\;Commerce\n<ul>\n	<li>Managing your online presence to get more visitors to your business</li>\n	<li>FREE &amp\; paid marketing resources</li>\n	<li>Networking tips and strategies</li>\n	<li>and more....</li>\n</ul>\nCall the Crestview Chamber at 850.682.3212 or email <a href="mailto:jpierson@crestviewchamber.com">jpierson@crestviewchamber.com</a>&nbsp\;to reserve your spot!
LOCATION:Crestview Chamber 1447 Commerce Drive
UID:e.1264.11007
SEQUENCE:3
DTSTAMP:20260425T112717Z
URL:https://business.crestviewchamber.com/events/details/you-joined-the-chamber-now-what-11007
END:VEVENT

END:VCALENDAR
