BEGIN:VCALENDAR
VERSION:2.0
PRODID:-//ChamberMaster//Event Calendar 2.0//EN
METHOD:PUBLISH
X-PUBLISHED-TTL:P3D
REFRESH-INTERVAL:P3D
CALSCALE:GREGORIAN
BEGIN:VEVENT
DTSTART:20170625T180000Z
DTEND:20170625T210000Z
X-MICROSOFT-CDO-ALLDAYEVENT:FALSE
SUMMARY:Year End PILOT Committee Party
DESCRIPTION:Year End PILOT Committee Party will be held at Old Warrior Ranch on Sunday\, June 25th between 1-4pm.  This is a great way to invite other young chamber members to check out PILOT or recruit non-chamber professionals into the Chamber.  Families are invited to attend!\n\nThis is a potluck event.  Please be sure to RSVP to Jamil with the number of guests as well as what food and/or drink your will be bringing. Jamil@MyFinancialLeaders.com
X-ALT-DESC;FMTTYPE=text/html:Year End PILOT Committee Party will be held at Old Warrior Ranch on Sunday\, June 25th between 1-4pm.&nbsp\; This is a great way to invite other young chamber members to check out PILOT or recruit non-chamber professionals into the Chamber.&nbsp\; Families are invited to attend!<br />\nThis is a potluck event.&nbsp\; Please be sure to RSVP to Jamil with the number of guests as well as what food and/or drink your will be bringing. <a href="mailto:Jamil@MyFinancialLeaders.com">Jamil@MyFinancialLeaders.com</a><br />\n<br />\n&nbsp\;
LOCATION:Old Warrior Ranch
UID:e.1264.10858
SEQUENCE:3
DTSTAMP:20260425T123833Z
URL:https://business.crestviewchamber.com/events/details/year-end-pilot-committee-party-10858
END:VEVENT

END:VCALENDAR
