BEGIN:VCALENDAR
VERSION:2.0
PRODID:-//ChamberMaster//Event Calendar 2.0//EN
METHOD:PUBLISH
X-PUBLISHED-TTL:P3D
REFRESH-INTERVAL:P3D
CALSCALE:GREGORIAN
BEGIN:VEVENT
DTSTART:20170720T140000Z
DTEND:20170720T180000Z
X-MICROSOFT-CDO-ALLDAYEVENT:FALSE
SUMMARY:Veteran Career Expo
DESCRIPTION:Annual Veteran's Expo - This job fair/expo event is open to veterans well as non veterans.
X-ALT-DESC;FMTTYPE=text/html:Annual Veteran&#39\;s Expo - This job fair/expo event is open to veterans well as non veterans.
LOCATION:Crestview Community Center
UID:e.1264.10772
SEQUENCE:3
DTSTAMP:20260425T112327Z
URL:https://business.crestviewchamber.com/events/details/veteran-career-expo-10772
END:VEVENT

END:VCALENDAR
