BEGIN:VCALENDAR
VERSION:2.0
PRODID:-//ChamberMaster//Event Calendar 2.0//EN
METHOD:PUBLISH
X-PUBLISHED-TTL:P3D
REFRESH-INTERVAL:P3D
CALSCALE:GREGORIAN
BEGIN:VEVENT
DTSTART:20220518T130000Z
DTEND:20220519T210000Z
X-MICROSOFT-CDO-ALLDAYEVENT:FALSE
SUMMARY:The PowerLink Business Expo
DESCRIPTION:The Largest Business Expo on the Gulf Coast. The PowerLink Expo is having its 4th Annual Business Expo in Fort Walton Beach\, FL. There are workshops\, seminars\, exhibits\, networking\, and much much more.
X-ALT-DESC;FMTTYPE=text/html:The Largest Business Expo on the Gulf Coast. The PowerLink Expo is having its 4th Annual Business Expo in Fort Walton Beach\, FL. There are workshops\, seminars\, exhibits\, networking\, and much much more.
LOCATION:First Baptist Church Family Life Center 21 First St SE\, Fort Walton Beach\, FL 32548
UID:e.1264.14083
SEQUENCE:3
DTSTAMP:20260420T151919Z
URL:https://business.crestviewchamber.com/events/details/the-powerlink-business-expo-05-18-2022-14083
END:VEVENT

END:VCALENDAR
