BEGIN:VCALENDAR
VERSION:2.0
PRODID:-//ChamberMaster//Event Calendar 2.0//EN
METHOD:PUBLISH
X-PUBLISHED-TTL:P3D
REFRESH-INTERVAL:P3D
CALSCALE:GREGORIAN
BEGIN:VEVENT
DTSTART:20170606T153000Z
DTEND:20170606T163000Z
X-MICROSOFT-CDO-ALLDAYEVENT:FALSE
SUMMARY:The Exciting World of Drones
DESCRIPTION:Mario Werth\, Owner/Operator Advanced Aerial Operations\, will discuss the many uses of drones---from agriculture and real estate to military and recreation---for the 10:30 a.m. June 6th First Tuesday Talk at the Crestview Public Library.\n\n\n\nBe sure to see Werth's exhbit in the library lobby display cases May 1st through June 30th.
X-ALT-DESC;FMTTYPE=text/html:Mario Werth\, Owner/Operator Advanced Aerial Operations\, will discuss the many uses of drones---from agriculture and real estate to military and recreation---for the 10:30 a.m. June 6th First Tuesday Talk at the Crestview Public Library.<br />\n<br />\nBe sure to see Werth&#39\;s exhbit in the library lobby display cases May 1st through June 30th.
LOCATION:Crestview Public Library 1445 Commerce Drive Crestview\, FL 32539
UID:e.1264.10802
SEQUENCE:3
DTSTAMP:20260425T112216Z
URL:https://business.crestviewchamber.com/events/details/the-exciting-world-of-drones-10802
END:VEVENT

END:VCALENDAR
