BEGIN:VCALENDAR
VERSION:2.0
PRODID:-//ChamberMaster//Event Calendar 2.0//EN
METHOD:PUBLISH
X-PUBLISHED-TTL:P3D
REFRESH-INTERVAL:P3D
CALSCALE:GREGORIAN
BEGIN:VEVENT
DTSTART:20170325T190000Z
DTEND:20170325T210000Z
X-MICROSOFT-CDO-ALLDAYEVENT:FALSE
SUMMARY:SPRING Soccer 2017 In person registration - Ages 5-8
DESCRIPTION:CSO SPRING Soccer 2017 2 x week Soccer - Ages 5-8 - April - May /weeknight practice and Saturday Game days Small Sided Soccer begins April 3rd week - May 27th Age Group 5-6 and 7-8 weeknight plus SATURDAYS - 12:30 - 1:45pm Where: Garden City Sports Complex Welcome to the wonderful world of Small Sided Soccer! Crestview Wolves Ages 5-8 Introduce your player to the proper structure and techniques of soccer with CSO! Our Small Sided Soccer program Saturday Sessions focus on individual technique skill building with group practice time and Small Sided Soccer GAMES every Saturday! Play 3v3 - 5v5 games! Our fun and active CSO sessions are packed with skill building soccer activities and team building interaction!
X-ALT-DESC;FMTTYPE=text/html:CSO SPRING Soccer 2017 2 x week Soccer - Ages 5-8 - April - May /weeknight practice and Saturday Game days Small Sided Soccer begins April 3rd week - May 27th Age Group 5-6 and 7-8 weeknight plus SATURDAYS - 12:30 - 1:45pm Where: Garden City Sports Complex Welcome to the wonderful world of Small Sided Soccer! Crestview Wolves Ages 5-8 Introduce your player to the proper structure and techniques of soccer with CSO! Our Small Sided Soccer program Saturday Sessions focus on individual technique skill building with group practice time and Small Sided Soccer GAMES every Saturday! Play 3v3 - 5v5 games! Our fun and active CSO sessions are packed with skill building soccer activities and team building interaction!
LOCATION:Garden City Sports Complex 6330 Garden City Road\, Crestview
UID:e.1264.10798
SEQUENCE:3
DTSTAMP:20260425T173659Z
URL:https://business.crestviewchamber.com/events/details/spring-soccer-2017-in-person-registration-ages-5-8-10798
END:VEVENT

END:VCALENDAR
