BEGIN:VCALENDAR
VERSION:2.0
PRODID:-//ChamberMaster//Event Calendar 2.0//EN
METHOD:PUBLISH
X-PUBLISHED-TTL:P3D
REFRESH-INTERVAL:P3D
CALSCALE:GREGORIAN
BEGIN:VEVENT
DTSTART:20201014T170000Z
DTEND:20201014T180000Z
X-MICROSOFT-CDO-ALLDAYEVENT:FALSE
SUMMARY:Ribbon Cutting - United for a Good Cause\, Inc
DESCRIPTION:Please join us as we welcome one of our newest Chamber members - United fora Good Cause\, Inc!
X-ALT-DESC;FMTTYPE=text/html:Please join us as we welcome one of our newest Chamber members - United fora Good Cause\, Inc!
LOCATION:The Ribbon Cutting will take place at the Crestview Chamber of Commerce. 1447 Commerce Drive Crestview\, FL 32529
UID:e.1264.13020
SEQUENCE:3
DTSTAMP:20260422T043622Z
URL:https://business.crestviewchamber.com/events/details/ribbon-cutting-united-for-a-good-cause-inc-13020
END:VEVENT

END:VCALENDAR
