BEGIN:VCALENDAR
VERSION:2.0
PRODID:-//ChamberMaster//Event Calendar 2.0//EN
METHOD:PUBLISH
X-PUBLISHED-TTL:P3D
REFRESH-INTERVAL:P3D
CALSCALE:GREGORIAN
BEGIN:VEVENT
DTSTART:20170721T170000Z
DTEND:20170721T173000Z
X-MICROSOFT-CDO-ALLDAYEVENT:FALSE
SUMMARY:Ribbon Cutting | SportsClips
DESCRIPTION:Join us in welcoming SportClips to the Crestview Chamber on July 21st at 12pm!  They are located at 1900 S Ferdon Blvd. ste 100 in the new shopping center next to Publix!  Be sure to visit their website to see what services they offer.  http://www.haircutmencrestviewfl.com/
X-ALT-DESC;FMTTYPE=text/html:Join us in welcoming SportClips to the Crestview Chamber on July 21st at 12pm!&nbsp\; They are located at 1900 S Ferdon Blvd. ste 100 in the new shopping center next to Publix!&nbsp\; Be sure to visit their website to see what services they offer.&nbsp\; <a href="http://www.haircutmencrestviewfl.com/">http://www.haircutmencrestviewfl.com/</a>
LOCATION:1900 S Ferdon Blvd ste 100
UID:e.1264.10993
SEQUENCE:3
DTSTAMP:20260425T112707Z
URL:https://business.crestviewchamber.com/events/details/ribbon-cutting-sportsclips-10993
END:VEVENT

END:VCALENDAR
