BEGIN:VCALENDAR
VERSION:2.0
PRODID:-//ChamberMaster//Event Calendar 2.0//EN
METHOD:PUBLISH
X-PUBLISHED-TTL:P3D
REFRESH-INTERVAL:P3D
CALSCALE:GREGORIAN
BEGIN:VEVENT
DTSTART:20220215T170000Z
DTEND:20220215T173000Z
X-MICROSOFT-CDO-ALLDAYEVENT:FALSE
SUMMARY:Ribbon Cutting - Smileology
DESCRIPTION:Join us for a Ribbon Cutting Ceremony at Smileology to celebrate their brand new location here in Crestview at 1900 S. Ferdon Blvd\, Suite 160. \n\n\n\nWe look forward to seeing you there!
X-ALT-DESC;FMTTYPE=text/html:<div>Join us for a Ribbon Cutting Ceremony at&nbsp\;Smileology to celebrate their brand new location here in Crestview at 1900 S. Ferdon Blvd\, Suite 160.&nbsp\;<br />\n<br />\nWe look forward to seeing you there!</div>\n
LOCATION:
UID:e.1264.14042
SEQUENCE:3
DTSTAMP:20260420T225755Z
URL:https://business.crestviewchamber.com/events/details/ribbon-cutting-smileology-14042
END:VEVENT

END:VCALENDAR
