BEGIN:VCALENDAR
VERSION:2.0
PRODID:-//ChamberMaster//Event Calendar 2.0//EN
METHOD:PUBLISH
X-PUBLISHED-TTL:P3D
REFRESH-INTERVAL:P3D
CALSCALE:GREGORIAN
BEGIN:VEVENT
DTSTART:20170627T150000Z
DTEND:20170627T153000Z
X-MICROSOFT-CDO-ALLDAYEVENT:FALSE
SUMMARY:Ribbon Cutting | New York's Famous Pizza & Pasta
DESCRIPTION:Join us for the ribbon cutting for New York's Famous Pizza & Pasta and help us welcome them to the Crestview Chamber!\n\nTake a moment and like them on Facebook link\n\nVisit their website to view their menu http://www.nysfamouspizza.com/
X-ALT-DESC;FMTTYPE=text/html:Join us for the ribbon cutting for New York&#39\;s Famous Pizza &amp\; Pasta and help us welcome them to the Crestview Chamber!<br />\nTake a moment and like them on Facebook <a href="https://www.facebook.com/NYSFamousPizza/?fref=mentions">link</a><br />\nVisit their website to view their menu <a href="http://www.nysfamouspizza.com/">http://www.nysfamouspizza.com/</a>
LOCATION:New York's Famous Pizza & Pasta 2511 S Ferdon Blvd
UID:e.1264.10991
SEQUENCE:3
DTSTAMP:20260425T112845Z
URL:https://business.crestviewchamber.com/events/details/ribbon-cutting-new-york-s-famous-pizza-pasta-10991
END:VEVENT

END:VCALENDAR
