BEGIN:VCALENDAR
VERSION:2.0
PRODID:-//ChamberMaster//Event Calendar 2.0//EN
METHOD:PUBLISH
X-PUBLISHED-TTL:P3D
REFRESH-INTERVAL:P3D
CALSCALE:GREGORIAN
BEGIN:VEVENT
DTSTART:20170717T151500Z
DTEND:20170717T153000Z
X-MICROSOFT-CDO-ALLDAYEVENT:FALSE
SUMMARY:Ribbon Cutting | McAlister's Deli
DESCRIPTION:Help us welcome McAlister's Deli to the Crestview Chamber on Monday\, July 17th at 10:15am.
X-ALT-DESC;FMTTYPE=text/html:Help us welcome McAlister&#39\;s Deli to the Crestview Chamber on Monday\, July 17th at 10:15am.
LOCATION:McAlister's Deli 2100 S Ferdon Blvd Suite 110
UID:e.1264.11002
SEQUENCE:3
DTSTAMP:20260425T112825Z
URL:https://business.crestviewchamber.com/events/details/ribbon-cutting-mcalister-s-deli-11002
END:VEVENT

END:VCALENDAR
