BEGIN:VCALENDAR
VERSION:2.0
PRODID:-//ChamberMaster//Event Calendar 2.0//EN
METHOD:PUBLISH
X-PUBLISHED-TTL:P3D
REFRESH-INTERVAL:P3D
CALSCALE:GREGORIAN
BEGIN:VEVENT
DTSTART:20170404T213000Z
DTEND:20170404T220000Z
X-MICROSOFT-CDO-ALLDAYEVENT:FALSE
SUMMARY:Ribbon Cutting | Great Clips
DESCRIPTION:Join us in welcoming Great Clips to the Crestview Chamber on April 4th @ 4:30pm!
X-ALT-DESC;FMTTYPE=text/html:Join us in welcoming Great Clips to the Crestview Chamber on April 4th @ 4:30pm!
LOCATION:Great Clips 2670 S Ferdon Blvd. Suite #106 B
UID:e.1264.10800
SEQUENCE:3
DTSTAMP:20260425T163422Z
URL:https://business.crestviewchamber.com/events/details/ribbon-cutting-great-clips-10800
END:VEVENT

END:VCALENDAR
