BEGIN:VCALENDAR
VERSION:2.0
PRODID:-//ChamberMaster//Event Calendar 2.0//EN
METHOD:PUBLISH
X-PUBLISHED-TTL:P3D
REFRESH-INTERVAL:P3D
CALSCALE:GREGORIAN
BEGIN:VEVENT
DTSTART:20161206T150000Z
DTEND:20161206T153000Z
X-MICROSOFT-CDO-ALLDAYEVENT:FALSE
SUMMARY:Ribbon Cutting | Express Oil Change
DESCRIPTION:Join us for a ribbon Cutting for Express Oil Change to welcome them to Crestview and to the Crestview Chamber!
X-ALT-DESC;FMTTYPE=text/html:Join us for a ribbon Cutting for Express Oil Change to welcome them to Crestview and to the Crestview Chamber!
LOCATION:Express Oil Change 2053 S Ferdon Blvd
UID:e.1264.10701
SEQUENCE:3
DTSTAMP:20260426T001227Z
URL:https://business.crestviewchamber.com/events/details/ribbon-cutting-express-oil-change-10701
END:VEVENT

END:VCALENDAR
