BEGIN:VCALENDAR
VERSION:2.0
PRODID:-//ChamberMaster//Event Calendar 2.0//EN
METHOD:PUBLISH
X-PUBLISHED-TTL:P3D
REFRESH-INTERVAL:P3D
CALSCALE:GREGORIAN
BEGIN:VEVENT
DTSTART:20170725T140000Z
DTEND:20170725T143000Z
X-MICROSOFT-CDO-ALLDAYEVENT:FALSE
SUMMARY:Ribbon Cutting | Costa Enterprises McDonalds
DESCRIPTION:Help us welcome Costa Enterprises McDonalds to the Crestview Chamber!
X-ALT-DESC;FMTTYPE=text/html:Help us welcome Costa Enterprises McDonalds to the Crestview Chamber!
LOCATION:1300 N Ferdon Blvd Crestview\, FL
UID:e.1264.11001
SEQUENCE:3
DTSTAMP:20260425T112707Z
URL:https://business.crestviewchamber.com/events/details/ribbon-cutting-costa-enterprises-mcdonalds-11001
END:VEVENT

END:VCALENDAR
