BEGIN:VCALENDAR
VERSION:2.0
PRODID:-//ChamberMaster//Event Calendar 2.0//EN
METHOD:PUBLISH
X-PUBLISHED-TTL:P3D
REFRESH-INTERVAL:P3D
CALSCALE:GREGORIAN
BEGIN:VEVENT
DTSTART:20170222T003000Z
DTEND:20170222T011500Z
X-MICROSOFT-CDO-ALLDAYEVENT:FALSE
SUMMARY:Pelican Pickers: Old-Timey Music for the Young and Young-at-heart
DESCRIPTION:For a toe-tappin' good time\, come to the Crestview Public Library on Tuesday\, February 21. The Pelican Pickers play old-timey Appalachian and gospel music with a variety of instruments including Appalachian mountain lap dulcimer\, banjo\, mandolin\, guitar\, Irish penny whistle\, fiddle\, harmonica\, Native American flute\, recorder and silver flute. Most of the songs come from the 1800s or earlier with some from the early 1900s. The concert begins at 6:30 p.m. and will end around 7:15 p.m. Family Library Time is designed with ages four and up in mind. Registration is not required for this free event. Please call 682-4432 with any questions.
X-ALT-DESC;FMTTYPE=text/html:For a toe-tappin&rsquo\; good time\, come to the Crestview Public Library on Tuesday\, February 21. The Pelican Pickers play old-timey Appalachian and gospel music with a variety of instruments including Appalachian mountain lap dulcimer\, banjo\, mandolin\, guitar\, Irish penny whistle\, fiddle\, harmonica\, Native American flute\, recorder and silver flute. Most of the songs come from the 1800s or earlier with some from the early 1900s. The concert begins at 6:30 p.m. and will end around 7:15 p.m. Family Library Time is designed with ages four and up in mind. Registration is not required for this free event. Please call 682-4432 with any questions.
LOCATION:Crestview Public Library 1445 Commerce Dr
UID:e.1264.10766
SEQUENCE:3
DTSTAMP:20260425T213711Z
URL:https://business.crestviewchamber.com/events/details/pelican-pickers-old-timey-music-for-the-young-and-young-at-heart-10766
END:VEVENT

END:VCALENDAR
