BEGIN:VCALENDAR
VERSION:2.0
PRODID:-//ChamberMaster//Event Calendar 2.0//EN
METHOD:PUBLISH
X-PUBLISHED-TTL:P3D
REFRESH-INTERVAL:P3D
CALSCALE:GREGORIAN
BEGIN:VEVENT
DTSTART:20170127T140000Z
DTEND:20170127T163000Z
X-MICROSOFT-CDO-ALLDAYEVENT:FALSE
SUMMARY:Pancakes & Property Tours at Katie Manor
DESCRIPTION:
X-ALT-DESC;FMTTYPE=text/html:
LOCATION:
UID:e.1264.10759
SEQUENCE:3
DTSTAMP:20260425T213242Z
URL:https://business.crestviewchamber.com/events/details/pancakes-property-tours-at-katie-manor-10759
END:VEVENT

END:VCALENDAR
