BEGIN:VCALENDAR
VERSION:2.0
PRODID:-//ChamberMaster//Event Calendar 2.0//EN
METHOD:PUBLISH
X-PUBLISHED-TTL:P3D
REFRESH-INTERVAL:P3D
CALSCALE:GREGORIAN
BEGIN:VEVENT
DTSTART;VALUE=DATE:20170401
DTEND;VALUE=DATE:20170402
TRANSP:TRANSPARENT
X-MICROSOFT-CDO-ALLDAYEVENT:TRUE
SUMMARY:Paint the Town Blue
DESCRIPTION:April is Child Abuse Prevention Month. Help the Emerald Coast Children's Advocacy Center by painting your town blue! For a $100 donation\, the ECCAC will deliver a yard sign and blue wreath for your home\, business\, and/or organization to display so you can help paint the town blue. Orders are available online at www.eccac.org.
X-ALT-DESC;FMTTYPE=text/html:April is Child Abuse Prevention Month. Help the Emerald Coast Children&#39\;s Advocacy Center by painting your town blue! For a $100 donation\, the ECCAC will deliver a yard sign and blue wreath for your home\, business\, and/or organization to display so you can help paint the town blue. Orders are available online at www.eccac.org.
LOCATION:
UID:e.1264.10792
SEQUENCE:3
DTSTAMP:20260425T163350Z
URL:https://business.crestviewchamber.com/events/details/paint-the-town-blue-10792
END:VEVENT

END:VCALENDAR
