BEGIN:VCALENDAR
VERSION:2.0
PRODID:-//ChamberMaster//Event Calendar 2.0//EN
METHOD:PUBLISH
X-PUBLISHED-TTL:P3D
REFRESH-INTERVAL:P3D
CALSCALE:GREGORIAN
BEGIN:VEVENT
DTSTART:20170204T170000Z
DTEND:20170204T220000Z
X-MICROSOFT-CDO-ALLDAYEVENT:FALSE
SUMMARY:Mardi Gras Festival & Parade
DESCRIPTION:4th Annual Mardi Gras Parade and Festival - Gras Fest will offer food\, fun\, vendor shopping\, family-friendly entertainment and car show. Beads will fly at 3 p.m. when the floats drive through Circle Drive.
X-ALT-DESC;FMTTYPE=text/html:4th Annual Mardi Gras Parade and Festival - Gras Fest will offer food\, fun\, vendor shopping\, family-friendly entertainment and car show. Beads will fly at 3 p.m. when the floats drive through Circle Drive.
LOCATION:Circle Drive in Defuniak Springs
UID:e.1264.10758
SEQUENCE:3
DTSTAMP:20260425T225327Z
URL:https://business.crestviewchamber.com/events/details/mardi-gras-festival-parade-10758
END:VEVENT

END:VCALENDAR
