BEGIN:VCALENDAR
VERSION:2.0
PRODID:-//ChamberMaster//Event Calendar 2.0//EN
METHOD:PUBLISH
X-PUBLISHED-TTL:P3D
REFRESH-INTERVAL:P3D
CALSCALE:GREGORIAN
BEGIN:VEVENT
DTSTART:20170508T180000Z
DTEND:20170508T190000Z
X-MICROSOFT-CDO-ALLDAYEVENT:FALSE
SUMMARY:MARC Planning Meeting
DESCRIPTION:The Military Appreciation and Recognition Celebration (MARC) is a free-to-the-public event offering food\, entertainment\, kids' activities\, and much more! Held on Armed Forces Day in May every year\, at Spanish Trail Park\, it is our way of thanking our military and their families for their service! Please join us and help us make the 2017 event the best yet!
X-ALT-DESC;FMTTYPE=text/html:The Military Appreciation and Recognition Celebration (MARC) is a free-to-the-public event offering food\, entertainment\, kids&#39\; activities\, and much more! Held on Armed Forces Day in May every year\, at Spanish Trail Park\, it is our way of thanking our military and their families for their service! Please join us and help us make the 2017 event the best yet!
LOCATION:Crestview Public Library
UID:e.1264.10811
SEQUENCE:3
DTSTAMP:20260425T123741Z
URL:https://business.crestviewchamber.com/events/details/marc-planning-meeting-10811
END:VEVENT

END:VCALENDAR
