BEGIN:VCALENDAR
VERSION:2.0
PRODID:-//ChamberMaster//Event Calendar 2.0//EN
METHOD:PUBLISH
X-PUBLISHED-TTL:P3D
REFRESH-INTERVAL:P3D
CALSCALE:GREGORIAN
BEGIN:VEVENT
DTSTART:20170404T153000Z
DTEND:20170404T163000Z
X-MICROSOFT-CDO-ALLDAYEVENT:FALSE
SUMMARY:Lawn Care in Northwest Florida
DESCRIPTION:Growing a lawn in Northwest Florida can be frustrating. With time\, most people discover this. Our climate\, sandy soils and pest problems are unique compared to most areas of the United States. You don't have to play a guessing game in maintaining a Florida lawn. \n\n \n\nLarry Williams\, Horticulture Agent with the University of Florida/Okaloosa County Extension Service\, will discuss "Lawn Care in Northwest Florida" for the April 4th First Tuesday Talk at the Crestview Public Library. This free seminar will focus on best management practices to help make growing a Florida lawn less frustrating.
X-ALT-DESC;FMTTYPE=text/html:<br />\n<span style="font-family: calibri\,sans-serif\;"><span style="font-size: medium\;">Growing a lawn in Northwest Florida can be frustrating. With time\, most people discover this. Our climate\, sandy soils and pest problems are unique compared to most areas of the United States. You don&rsquo\;t have to play a guessing game in maintaining a Florida lawn. </span></span><br />\n&nbsp\;<br />\n<span style="font-family: calibri\,sans-serif\;"><span style="font-size: medium\;">Larry Williams\, Horticulture Agent with the University of Florida/Okaloosa County Extension Service\, will discuss &ldquo\;Lawn Care in Northwest Florida&rdquo\; for the&nbsp\;April 4th&nbsp\;First Tuesday&nbsp\;Talk at the Crestview Public Library. This free seminar will focus on best management practices to help make growing a Florida lawn less frustrating. </span></span><br />\n&nbsp\;
LOCATION:Crestview Public Library 1445 Commerce Dr Crestview\, FL 32539 (behind the Post Office in north Crestview)
UID:e.1264.10727
SEQUENCE:3
DTSTAMP:20260425T163657Z
URL:https://business.crestviewchamber.com/events/details/lawn-care-in-northwest-florida-10727
END:VEVENT

END:VCALENDAR
