BEGIN:VCALENDAR
VERSION:2.0
PRODID:-//ChamberMaster//Event Calendar 2.0//EN
METHOD:PUBLISH
X-PUBLISHED-TTL:P3D
REFRESH-INTERVAL:P3D
CALSCALE:GREGORIAN
BEGIN:VEVENT
DTSTART;VALUE=DATE:20170109
DTEND;VALUE=DATE:20170305
TRANSP:TRANSPARENT
X-MICROSOFT-CDO-ALLDAYEVENT:TRUE
SUMMARY:KIDS Soccer & Fitness
DESCRIPTION:Revolutionizing the way KIDS participate in sports! Tots Soccer - Age 2 Mom & Me KIDS first kicks! Kids Soccer - Ages 3-5 Basics to Advanced! Youth Soccer - Ages 6-11 LOVE the GAME! Weekdays\, Saturday & AFTER SCHOOL hours! KIDS Soccer & Fitness Programs provide children with a core foundation for a more active lifestyle. Our integrated sessions are designed based on the age interests\, energies and developmental stages of young children and teens. Sign up NOW! KIDSsoccer.fitness 850.374.0083 Most KIDS sessions only $10.00
X-ALT-DESC;FMTTYPE=text/html:Revolutionizing the way KIDS participate in sports! Tots Soccer - Age 2 Mom &amp\; Me KIDS first kicks! Kids Soccer - Ages 3-5 Basics to Advanced! Youth Soccer - Ages 6-11 LOVE the GAME! Weekdays\, Saturday &amp\; AFTER SCHOOL hours! KIDS Soccer &amp\; Fitness Programs provide children with a core foundation for a more active lifestyle. Our integrated sessions are designed based on the age interests\, energies and developmental stages of young children and teens. Sign up NOW! KIDSsoccer.fitness 850.374.0083 Most KIDS sessions only $10.00
LOCATION:Girl Power Station 424 W. College Blvd Valparsiso\, Florida
UID:e.1264.10730
SEQUENCE:3
DTSTAMP:20260425T173848Z
URL:https://business.crestviewchamber.com/events/details/kids-soccer-fitness-10730
END:VEVENT

END:VCALENDAR
