BEGIN:VCALENDAR
VERSION:2.0
PRODID:-//ChamberMaster//Event Calendar 2.0//EN
METHOD:PUBLISH
X-PUBLISHED-TTL:P3D
REFRESH-INTERVAL:P3D
CALSCALE:GREGORIAN
BEGIN:VEVENT
DTSTART:20170614T140000Z
DTEND:20170614T170000Z
X-MICROSOFT-CDO-ALLDAYEVENT:FALSE
SUMMARY:How To Do Business with Eglin AFB
DESCRIPTION:The Florida SBDC at UWF Government Contracting Services offers a workshop entitled "How To Do Business with Eglin AFB" on Wednesday\, June 14th\, from 9:00 a.m.   Noon. This workshop is about how to do business with Eglin AFB. The workshop will cover the different types of contracts\, contacts\, and policies on visits and website information for Eglin AFB. No fee\, but pre-registration recommended. Pre-registration is recommended. To register\, call 850-474-2528 or visit our website at www.sbdc.uwf.edu\, "Training Opportunities". Presented by: John DiGiacomo\, Govt. Contracting Specialist
X-ALT-DESC;FMTTYPE=text/html:The Florida SBDC at UWF Government Contracting Services offers a workshop entitled &ldquo\;How To Do Business with Eglin AFB&rdquo\; on Wednesday\, June 14th\, from 9:00 a.m. &ndash\; Noon. This workshop is about how to do business with Eglin AFB. The workshop will cover the different types of contracts\, contacts\, and policies on visits and website information for Eglin AFB. No fee\, but pre-registration recommended. Pre-registration is recommended. To register\, call 850-474-2528 or visit our website at www.sbdc.uwf.edu\, &ldquo\;Training Opportunities&rdquo\;. Presented by: John DiGiacomo\, Govt. Contracting Specialist
LOCATION:Location: Crestview Chamber\, 1447 Commerce Drive\, 32539.
UID:e.1264.10818
SEQUENCE:3
DTSTAMP:20260425T114328Z
URL:https://business.crestviewchamber.com/events/details/how-to-do-business-with-eglin-afb-10818
END:VEVENT

END:VCALENDAR
