BEGIN:VCALENDAR
VERSION:2.0
PRODID:-//ChamberMaster//Event Calendar 2.0//EN
METHOD:PUBLISH
X-PUBLISHED-TTL:P3D
REFRESH-INTERVAL:P3D
CALSCALE:GREGORIAN
BEGIN:VEVENT
DTSTART:20170817T233000Z
DTEND:20170818T010000Z
X-MICROSOFT-CDO-ALLDAYEVENT:FALSE
SUMMARY:Holt Town Hall Meeting
DESCRIPTION:Community Health Assessment presentation to community. Learn about prevalent health issues in Okaloosa and your community\, as well as help DOH-Okaloosa choose priority health issues to be addressed. Statistical information will be shared concerning leading causes of death and overall health.
X-ALT-DESC;FMTTYPE=text/html:Community Health Assessment presentation to community. Learn about prevalent health issues in Okaloosa and your community\, as well as help DOH-Okaloosa choose priority health issues to be addressed. Statistical information will be shared concerning leading causes of death and overall health.
LOCATION:First Baptist Church of Holt
UID:e.1264.11004
SEQUENCE:3
DTSTAMP:20260425T102136Z
URL:https://business.crestviewchamber.com/events/details/holt-town-hall-meeting-11004
END:VEVENT

END:VCALENDAR
