BEGIN:VCALENDAR
VERSION:2.0
PRODID:-//ChamberMaster//Event Calendar 2.0//EN
METHOD:PUBLISH
X-PUBLISHED-TTL:P3D
REFRESH-INTERVAL:P3D
CALSCALE:GREGORIAN
BEGIN:VEVENT
DTSTART:20170516T170000Z
DTEND:20170516T200000Z
X-MICROSOFT-CDO-ALLDAYEVENT:FALSE
SUMMARY:Hiring Event
DESCRIPTION:SportClilps Haircuts of Crestview is now hiring Stylists & Manageres. \n\nStop by the Crestview Chamber Office at 1447 Commerce Drive on Tuesday\, May 16th between 12pm-3pm.
X-ALT-DESC;FMTTYPE=text/html:<p>SportClilps Haircuts of Crestview is now hiring Stylists &amp\; Manageres.&nbsp\;</p>\n\n<p>Stop by the Crestview Chamber Office at 1447 Commerce Drive on Tuesday\, May 16th between 12pm-3pm.</p>\n
LOCATION:
UID:e.1264.10839
SEQUENCE:3
DTSTAMP:20260425T123709Z
URL:https://business.crestviewchamber.com/events/details/hiring-event-10839
END:VEVENT

END:VCALENDAR
