BEGIN:VCALENDAR
VERSION:2.0
PRODID:-//ChamberMaster//Event Calendar 2.0//EN
METHOD:PUBLISH
X-PUBLISHED-TTL:P3D
REFRESH-INTERVAL:P3D
CALSCALE:GREGORIAN
BEGIN:VEVENT
DTSTART:20170112T230000Z
DTEND:20170113T010000Z
X-MICROSOFT-CDO-ALLDAYEVENT:FALSE
SUMMARY:Heritage Alive! Craft Class Series | Writing your own Memoirs
DESCRIPTION:Heritage Alive! Craft Class Series" at the Heritage Museum of Northwest Florida in 2017\n\n\n\nThe Heritage Museum of Northwest Florida announces their 2017 "Heritage Alive! Craft Class Series".   Learn a new skill and make something uniquely yours.  Space is limited\, reservations are required.  Call today:  850-678-2615 or for more information visit www.heritage-museum.org\n\n\n\nProgram:      Writing your own Memoirs\n\nDate/Time:      Thursday\, January 12\, 5p-7p\n\nDetails:            Learn to preserve your personal history by recording your memoirs. \n\nCost:                $25\; or $20 for Museum Members
X-ALT-DESC;FMTTYPE=text/html:Heritage Alive! Craft Class Series&rdquo\; at the Heritage Museum of Northwest Florida in 2017<br />\n<br />\nThe Heritage Museum of Northwest Florida announces their 2017 &ldquo\;Heritage Alive! Craft Class Series&rdquo\;.&nbsp\;&nbsp\; Learn a new skill and make something uniquely yours.&nbsp\; Space is limited\, reservations are required.&nbsp\; Call today:&nbsp\; 850-678-2615 or for more information visit <a href="http://www.heritage-museum.org">www.heritage-museum.org</a><br />\n<br />\nProgram:&nbsp\;&nbsp\;&nbsp\;&nbsp\;&nbsp\; Writing your own Memoirs<br />\nDate/Time:&nbsp\;&nbsp\;&nbsp\;&nbsp\;&nbsp\; Thursday\, January 12\, 5p-7p<br />\nDetails:&nbsp\;&nbsp\;&nbsp\;&nbsp\;&nbsp\;&nbsp\;&nbsp\;&nbsp\;&nbsp\;&nbsp\;&nbsp\; Learn to preserve your personal history by recording your memoirs.&nbsp\;<br />\nCost:&nbsp\;&nbsp\;&nbsp\;&nbsp\;&nbsp\;&nbsp\;&nbsp\;&nbsp\;&nbsp\;&nbsp\;&nbsp\;&nbsp\;&nbsp\;&nbsp\;&nbsp\; $25\; or $20 for Museum Members<br />\n<br />\n&nbsp\;
LOCATION:Heritage Museum of Northwest Florida 115 Westview Avenue\, Valparaiso\, FL 32580
UID:e.1264.10736
SEQUENCE:3
DTSTAMP:20260425T213248Z
URL:https://business.crestviewchamber.com/events/details/heritage-alive-craft-class-series-writing-your-own-memoirs-10736
END:VEVENT

END:VCALENDAR
