BEGIN:VCALENDAR
VERSION:2.0
PRODID:-//ChamberMaster//Event Calendar 2.0//EN
METHOD:PUBLISH
X-PUBLISHED-TTL:P3D
REFRESH-INTERVAL:P3D
CALSCALE:GREGORIAN
BEGIN:VEVENT
DTSTART:20190522T133000Z
DTEND:20190522T143000Z
X-MICROSOFT-CDO-ALLDAYEVENT:FALSE
SUMMARY:Health & Wellness Committee Meeting
DESCRIPTION:The Health & Wellness Committee's mission is to promote health and wellness throughout the Crestview Area. The committee focuses on monthly blood pressure and blood sugar checks offered to chamber members at the monthly breakfast meetings\, an annual community wide health fair\, and support of various health related opportunities throughout the year. Members of the committee do not have to be in a health related opportunities throughout the year. Members of the committee do not have to be in a health related field\; just have an interest in promoting health for themselves and others.
X-ALT-DESC;FMTTYPE=text/html:The Health &amp\; Wellness Committee&#39\;s mission is to promote health and wellness throughout the Crestview Area. The committee focuses on monthly blood pressure and blood sugar checks offered to chamber members at the monthly breakfast meetings\, an annual community wide health fair\, and support of various health related opportunities throughout the year. Members of the committee do not have to be in a health related opportunities throughout the year. Members of the committee do not have to be in a health related field\; just have an interest in promoting health for themselves and others.&nbsp\;
LOCATION:Meeting held at the Crestview Chamber of Commerce 1447 Commerce Drive Crestview\, FL
UID:e.1264.12834
SEQUENCE:3
DTSTAMP:20260423T193438Z
URL:https://business.crestviewchamber.com/events/details/health-wellness-committee-meeting-12834
END:VEVENT

END:VCALENDAR
