BEGIN:VCALENDAR
VERSION:2.0
PRODID:-//ChamberMaster//Event Calendar 2.0//EN
METHOD:PUBLISH
X-PUBLISHED-TTL:P3D
REFRESH-INTERVAL:P3D
CALSCALE:GREGORIAN
BEGIN:VEVENT
DTSTART:20170519T160000Z
DTEND:20170519T180000Z
X-MICROSOFT-CDO-ALLDAYEVENT:FALSE
SUMMARY:Grow Your Circle: Use Social Media
DESCRIPTION:The FL SBDC at UWF is presenting a workshop Friday\, May 19\, from 11:00 a.m.   1:00 p.m. entitled "Grow Your Circle: Use Social Media to Reach Customers". Do you know how to post videos to Facebook? Are you aware how to make sure you are hitting the target with your social media and internet presence? Learn who is using Facebook\, Twitter\, Pinterest\, Instagram and more and how to be a part of their social circle. Fee: $25\; pre-registration is strongly recommended as seating is limited. Attendees are encouraged to bring their own lunch. For further information\, or to register call 850-474-2528 or visit our website (www.sbdc.uwf.edu).
X-ALT-DESC;FMTTYPE=text/html:The FL SBDC at UWF is presenting a workshop Friday\, May 19\, from 11:00 a.m. &ndash\; 1:00 p.m. entitled &ldquo\;Grow Your Circle: Use Social Media to Reach Customers&rdquo\;. Do you know how to post videos to Facebook? Are you aware how to make sure you are hitting the target with your social media and internet presence? Learn who is using Facebook\, Twitter\, Pinterest\, Instagram and more and how to be a part of their social circle. Fee: $25\; pre-registration is strongly recommended as seating is limited. Attendees are encouraged to bring their own lunch. For further information\, or to register call 850-474-2528 or visit our website (www.sbdc.uwf.edu).
LOCATION:Location: Crestview Chamber\, 1447 Commerce Drive\, 32539.
UID:e.1264.10817
SEQUENCE:3
DTSTAMP:20260425T124230Z
URL:https://business.crestviewchamber.com/events/details/grow-your-circle-use-social-media-10817
END:VEVENT

END:VCALENDAR
