BEGIN:VCALENDAR
VERSION:2.0
PRODID:-//ChamberMaster//Event Calendar 2.0//EN
METHOD:PUBLISH
X-PUBLISHED-TTL:P3D
REFRESH-INTERVAL:P3D
CALSCALE:GREGORIAN
BEGIN:VEVENT
DTSTART:20170614T133000Z
DTEND:20170614T143000Z
X-MICROSOFT-CDO-ALLDAYEVENT:FALSE
SUMMARY:Government Issues Committee Meeting
DESCRIPTION:Government Issues Committee\n\n\n\nThe guest speaker for the 8:30 a.m. Crestview Area Chamber of Commerce Government Issues committee meeting will be Jason Autrey\, Director\, Okaloosa County Public Works Department.  Among topics that may be discussed are north county roads and the new courthouse.\n\n\n\n\n\nThe eyes and ears of the Chamber of Commerce for local\, state\, national legislative issues\, laws and ordinance that directly or indirectly affects or restricts the ability of our members or a member to conduct business. This committee will recommend policy positions to the Executive Officers and subsequently to the Board of Directors as necessary. They may also sponsor candidate forums and/or meetings with elected officials and will\, on occasion\, attend city council and county commissioner meetings.\n\n\n\nMonthly Meeting Schedule: 2nd Wednesday\, 8:30 am @ the Chamber
X-ALT-DESC;FMTTYPE=text/html:Government Issues Committee<br />\n<br />\n<strong>The guest speaker for the 8:30 a.m. Crestview Area Chamber of Commerce Government Issues committee meeting will be Jason Autrey\, Director\, Okaloosa County Public Works Department.&nbsp\; Among topics that may be discussed are north county roads and the new courthouse.</strong><br />\n<br />\n<br />\nThe eyes and ears of the Chamber of Commerce for local\, state\, national legislative issues\, laws and ordinance that directly or indirectly affects or restricts the ability of our members or a member to conduct business. This committee will recommend policy positions to the Executive Officers and subsequently to the Board of Directors as necessary. They may also sponsor candidate forums and/or meetings with elected officials and will\, on occasion\, attend city council and county commissioner meetings.<br />\n<br />\nMonthly Meeting Schedule: 2nd Wednesday\, 8:30 am @ the Chamber
LOCATION:Crestview Chamber of Commerce 1447 Commerce Drive
UID:e.1264.5311
SEQUENCE:3
DTSTAMP:20260425T112327Z
URL:https://business.crestviewchamber.com/events/details/government-issues-committee-meeting-06-14-2017-5311
END:VEVENT

END:VCALENDAR
