BEGIN:VCALENDAR
VERSION:2.0
PRODID:-//ChamberMaster//Event Calendar 2.0//EN
METHOD:PUBLISH
X-PUBLISHED-TTL:P3D
REFRESH-INTERVAL:P3D
CALSCALE:GREGORIAN
BEGIN:VEVENT
DTSTART:20170208T143000Z
DTEND:20170208T153000Z
X-MICROSOFT-CDO-ALLDAYEVENT:FALSE
SUMMARY:Government Issues Committee Meeting
DESCRIPTION:The speaker for the meeting on February 8th will be Graham Fountain\, Okaloosa County Commissioner District 1 & Vice-Chair\n\n\n\nGovernment Issues Committee\n\n\n\nThe eyes and ears of the Chamber of Commerce for local\, state\, national legislative issues\, laws and ordinance that directly or indirectly affects or restricts the ability of our members or a member to conduct business. This committee will recommend policy positions to the Executive Officers and subsequently to the Board of Directors as necessary. They may also sponsor candidate forums and/or meetings with elected officials and will\, on occasion\, attend city council and county commissioner meetings.\n\n\n\nMonthly Meeting Schedule: 2nd Wednesday\, 8:30 am @ the Chamber
X-ALT-DESC;FMTTYPE=text/html:The speaker for the meeting on February 8th will be Graham Fountain\, Okaloosa County Commissioner District 1 &amp\; Vice-Chair<br />\n<br />\nGovernment Issues Committee<br />\n<br />\nThe eyes and ears of the Chamber of Commerce for local\, state\, national legislative issues\, laws and ordinance that directly or indirectly affects or restricts the ability of our members or a member to conduct business. This committee will recommend policy positions to the Executive Officers and subsequently to the Board of Directors as necessary. They may also sponsor candidate forums and/or meetings with elected officials and will\, on occasion\, attend city council and county commissioner meetings.<br />\n<br />\nMonthly Meeting Schedule: 2nd Wednesday\, 8:30 am @ the Chamber
LOCATION:Crestview Chamber of Commerce 1447 Commerce Drive
UID:e.1264.5307
SEQUENCE:3
DTSTAMP:20260426T000920Z
URL:https://business.crestviewchamber.com/events/details/government-issues-committee-meeting-02-08-2017-5307
END:VEVENT

END:VCALENDAR
