BEGIN:VCALENDAR
VERSION:2.0
PRODID:-//ChamberMaster//Event Calendar 2.0//EN
METHOD:PUBLISH
X-PUBLISHED-TTL:P3D
REFRESH-INTERVAL:P3D
CALSCALE:GREGORIAN
BEGIN:VEVENT
DTSTART:20170322T163000Z
DTEND:20170322T180000Z
X-MICROSOFT-CDO-ALLDAYEVENT:FALSE
SUMMARY:Get to know the 1st Circuit Community Alliance
DESCRIPTION:If you care about the vulnerable children in our community\, and you believe it's in everyone's best interests to preserve and strengthen families\, then you need to hear about the 1st Circuit Community Alliance. This collaborative government/community partnership works hard to support our at-risk citizens and to achieve better outcomes for them and ultimately for all of us. To learn more\, please join League for a "brown bag" lunch on Wednesday\, 22 March from 11:30-1:00 in Rm 130\, Student Services Center\, NWFSC (100 College Blvd\, Niceville). Guest speaker Phyllis Gonzales\, DCF's Community Development Administrator for the 1st Circuit\, will explain how the Alliance works and what you can do to help our most vulnerable residents. The meeting is free and the public is welcome. For more info call Mary Blackwell at 850-621-4088\, or RSVP to info@lwvokaloosa.org.
X-ALT-DESC;FMTTYPE=text/html:If you care about the vulnerable children in our community\, and you believe it&rsquo\;s in everyone&rsquo\;s best interests to preserve and strengthen families\, then you need to hear about the 1st Circuit Community Alliance. This collaborative government/community partnership works hard to support our at-risk citizens and to achieve better outcomes for them&mdash\;and ultimately for all of us. To learn more\, please join League for a &ldquo\;brown bag&rdquo\; lunch on Wednesday\, 22 March from 11:30-1:00 in Rm 130\, Student Services Center\, NWFSC (100 College Blvd\, Niceville). Guest speaker Phyllis Gonzales\, DCF&rsquo\;s Community Development Administrator for the 1st Circuit\, will explain how the Alliance works and what you can do to help our most vulnerable residents. The meeting is free and the public is welcome. For more info call Mary Blackwell at 850-621-4088\, or RSVP to info@lwvokaloosa.org.
LOCATION:Room 130\, Student Services Center\, NWFSC\, 1000 College Blvd\, Niceville FL 325789
UID:e.1264.10794
SEQUENCE:3
DTSTAMP:20260425T173516Z
URL:https://business.crestviewchamber.com/events/details/get-to-know-the-1st-circuit-community-alliance-10794
END:VEVENT

END:VCALENDAR
