BEGIN:VCALENDAR
VERSION:2.0
PRODID:-//ChamberMaster//Event Calendar 2.0//EN
METHOD:PUBLISH
X-PUBLISHED-TTL:P3D
REFRESH-INTERVAL:P3D
CALSCALE:GREGORIAN
BEGIN:VEVENT
DTSTART:20220205T010000Z
DTEND:20220205T040000Z
X-MICROSOFT-CDO-ALLDAYEVENT:FALSE
SUMMARY:Freedom Brass concert
DESCRIPTION:The Freedom Brass ensemble of the U.S. Air Force Band of the West gives a free performance at Crestview's Warriors Hall. A reception underwritten by Kindred at Home to greet the musicians follows.
X-ALT-DESC;FMTTYPE=text/html:The Freedom Brass ensemble of the U.S. Air Force Band of the West gives a free performance at Crestview&#39\;s Warriors Hall. A reception underwritten by Kindred at Home to greet the musicians follows.
LOCATION:Warriors Hall\, Whitehurst Municipal Building\, 201 Stillwell Blvd.\, Crestview
UID:e.1264.14024
SEQUENCE:3
DTSTAMP:20260420T225105Z
URL:https://business.crestviewchamber.com/events/details/freedom-brass-concert-14024
END:VEVENT

END:VCALENDAR
