BEGIN:VCALENDAR
VERSION:2.0
PRODID:-//ChamberMaster//Event Calendar 2.0//EN
METHOD:PUBLISH
X-PUBLISHED-TTL:P3D
REFRESH-INTERVAL:P3D
CALSCALE:GREGORIAN
BEGIN:VEVENT
DTSTART:20230328T140000Z
DTEND:20230328T170000Z
X-MICROSOFT-CDO-ALLDAYEVENT:FALSE
SUMMARY:Florida SBDC at UWF Presents “Starting a Business” – Crestview
DESCRIPTION:Have an idea for a business\, but not sure where to start? Take the first step with the Florida SBDC's "Starting a Business" workshop. In this workshop\, we will discuss the fundamentals of launching your new venture\, including how to determine feasibility and legal structures\, licensing and permitting\, funding options for your business and basic marketing strategies to help you get started!  Location: Crestview Area Chamber of Commerce\, 1447 Commerce Dr\, Crestview\, 32539. Fee: $50. To register\, visit our website at www.sbdc.uwf.edu and click on "Training & Events".  Presented by John Emsing\, Assistant Director\, Florida SBDC at UWF. Sponsored by Cadence Bank and Wells Fargo.
X-ALT-DESC;FMTTYPE=text/html:<br />\n<span style="font-size:18px\;"><span style="color:black"><span style="font-family:calibri\,sans-serif">Have an idea for a business\, but not sure where to start? </span></span><span style="font-family:calibri\,sans-serif">Take the first step with the Florida SBDC&rsquo\;s &ldquo\;Starting a Business&rdquo\; workshop. In<span style="color:black">&nbsp\;this workshop\, we will discuss&nbsp\;the fundamentals of launching your new venture\, including&nbsp\;how to determine feasibility and legal structures\, licensing and permitting\,&nbsp\;funding options for your business and basic marketing strategies to help you get started!&nbsp\; </span>Location: Crestview Area Chamber of Commerce\, 1447 Commerce Dr\, Crestview\, 32539. Fee: $50. To register\, visit our website at </span><a href="http://www.sbdc.uwf.edu/"><span style="font-family:calibri\,sans-serif">www.sbdc.uwf.edu</span></a><span style="font-family:calibri\,sans-serif"> and click on &ldquo\;Training &amp\; Events&rdquo\;.&nbsp\; Presented by John Emsing\, Assistant Director\, Florida SBDC at UWF. Sponsored by Cadence Bank and Wells Fargo.</span></span>
LOCATION:Crestview Area Chamber of Commerce\, 1447 Commerce Dr\, Crestview\, 32539
UID:e.1264.15378
SEQUENCE:3
DTSTAMP:20260419T193817Z
URL:https://business.crestviewchamber.com/events/details/florida-sbdc-at-uwf-presents-starting-a-business-crestview-03-28-2023-15378
END:VEVENT

END:VCALENDAR
