BEGIN:VCALENDAR
VERSION:2.0
PRODID:-//ChamberMaster//Event Calendar 2.0//EN
METHOD:PUBLISH
X-PUBLISHED-TTL:P3D
REFRESH-INTERVAL:P3D
CALSCALE:GREGORIAN
BEGIN:VEVENT
DTSTART:20170318T150000Z
DTEND:20170318T190000Z
X-MICROSOFT-CDO-ALLDAYEVENT:FALSE
SUMMARY:FIRST ANNUAL GARDEN PARTY FUNDRAISING EVENT
DESCRIPTION:Join us at the Crestview Community Garden for an afternoon of FUN for kids\, teens and adults!\n\n\n\nFARM TO TABLE LUNCH\n\nThe highlight of the day is a handmade\, locally grown\, 'Farm to Table' lunch at the Garden from 11am to 1pm. Food will be prepared by acclaimed Chef Mary Richard of "A Grand Elegance" and Esther Phelps. Refreshments will be served all day.  \n\n\n\nCRAFTS AND ACTIVITIES\n\nThere will be crafts and activities for kids\, teens and adults. Crafts include recycled planters with seedlings\, wreathmaking and plant markers. \n\n\n\nGARDEN TOURS\n\nIf you want to know more about starting your own garden\, we will be providing gardening tips and tours\, as well as seeds and starters. For the kids\, there will be storytelling by Mr. McGregor of Peter Rabbit.  \n\nAdult tours will be held at 10:00\, 11:00\, 12:00\, 1:00.  \n\nChildren's tours will be held at 10:30\, 11:30\,12:30 and 1:30.
X-ALT-DESC;FMTTYPE=text/html:<span style="color: rgb(75\, 79\, 86)\; font-family: helvetica\,arial\,sans-serif\; font-size: 14px\;"><strong>Join us at the Crestview Community Garden for an afternoon of FUN for kids\, teens and adults!</strong></span><br />\n<br />\n<strong><span style="color: rgb(75\, 79\, 86)\; font-family: helvetica\,arial\,sans-serif\; font-size: 14px\;">FARM TO TABLE LUNCH</span></strong><br />\n<span style="color: rgb(75\, 79\, 86)\; font-family: helvetica\,arial\,sans-serif\; font-size: 14px\;">The highlight of the day is a handmade\, locally grown\, &#39\;Farm to Table&#39\; lunch at the Garden from 11am to 1pm. Food will be prepared by acclaimed Chef Mary Richard of &quot\;A Grand Elegance&quot\; and Esther Phelps. Refreshments will be served all day.&nbsp\;&nbsp\;</span><br />\n<br />\n<strong><span style="color: rgb(75\, 79\, 86)\; font-family: helvetica\,arial\,sans-serif\; font-size: 14px\;">CRAFTS AND ACTIVITIES</span></strong><br />\n<span style="color: rgb(75\, 79\, 86)\; font-family: helvetica\,arial\,sans-serif\; font-size: 14px\;">There will be crafts and activities for kids\, teens and adults. Crafts include recycled planters with seedlings\, wreathmaking and plant markers.&nbsp\;</span><br />\n<br />\n<strong><span style="color: rgb(75\, 79\, 86)\; font-family: helvetica\,arial\,sans-serif\; font-size: 14px\;">GARDEN TOURS</span></strong><br />\n<span style="color: rgb(75\, 79\, 86)\; font-family: helvetica\,arial\,sans-serif\; font-size: 14px\;">If you want to know more about starting your own garden\, we will be providing gardening tips and tours\, as well as seeds and starters. For the kids\, there will be storytelling by Mr. McGregor of Peter R</span><span style="color: rgb(75\, 79\, 86)\; font-family: helvetica\,arial\,sans-serif\; font-size: 14px\;">abbit.&nbsp\;&nbsp\;<br />\nAdult tours will be held at 10:00\, 11:00\, 12:00\, 1:00.&nbsp\;&nbsp\;<br />\nChildren&#39\;s tours will be held at 10:30\, 11:30\,12:30 and 1:30.&nbsp\;&nbsp\;</span><br />\n<br />\n&nbsp\;
LOCATION:Common Ground's Main Street Community Garden at 157 S. Main Street\, Crestview\, Florida 32536 (S. Main & MLK between H&R Block and CSX Overpass in historic downtown Crestview)
UID:e.1264.10776
SEQUENCE:3
DTSTAMP:20260425T173455Z
URL:https://business.crestviewchamber.com/events/details/first-annual-garden-party-fundraising-event-10776
END:VEVENT

END:VCALENDAR
