BEGIN:VCALENDAR
VERSION:2.0
PRODID:-//ChamberMaster//Event Calendar 2.0//EN
METHOD:PUBLISH
X-PUBLISHED-TTL:P3D
REFRESH-INTERVAL:P3D
CALSCALE:GREGORIAN
BEGIN:VEVENT
DTSTART;VALUE=DATE:20220210
DTEND;VALUE=DATE:20220211
TRANSP:TRANSPARENT
X-MICROSOFT-CDO-ALLDAYEVENT:TRUE
SUMMARY:February Business After Hours
DESCRIPTION:Due to our Valentine's Gala on February 12th\, there will be no Business After Hours this month.\n\n\n\nSee you at the Gala!
X-ALT-DESC;FMTTYPE=text/html:Due to our Valentine&#39\;s Gala on February 12th\, there will be no Business After Hours this month.<br />\n<br />\nSee you at the Gala!
LOCATION:
UID:e.1264.14041
SEQUENCE:3
DTSTAMP:20260421T001254Z
URL:https://business.crestviewchamber.com/events/details/february-business-after-hours-14041
END:VEVENT

END:VCALENDAR
