BEGIN:VCALENDAR
VERSION:2.0
PRODID:-//ChamberMaster//Event Calendar 2.0//EN
METHOD:PUBLISH
X-PUBLISHED-TTL:P3D
REFRESH-INTERVAL:P3D
CALSCALE:GREGORIAN
BEGIN:VEVENT
DTSTART;VALUE=DATE:20170410
DTEND;VALUE=DATE:20170411
TRANSP:TRANSPARENT
X-MICROSOFT-CDO-ALLDAYEVENT:TRUE
SUMMARY:ECCAC Donate Your Dime
DESCRIPTION:Whole Foods Market gives 10 cents per bag to customers who re-use their own shopping bags for their purchased groceries. Whole Foods in Destin has partnered with the Emerald Coast Children's Advocacy Center from April 10-July 2. Instead of getting your cash back\, you can choose to give your dime to the ECCAC.
X-ALT-DESC;FMTTYPE=text/html:Whole Foods Market gives 10 cents per bag to customers who re-use their own shopping bags for their purchased groceries. Whole Foods in Destin has partnered with the Emerald Coast Children&#39\;s Advocacy Center from April 10-July 2. Instead of getting your cash back\, you can choose to give your dime to the ECCAC.
LOCATION:4402 Legendary Drive Destin\, FL 32541
UID:e.1264.10791
SEQUENCE:3
DTSTAMP:20260425T163319Z
URL:https://business.crestviewchamber.com/events/details/eccac-donate-your-dime-10791
END:VEVENT

END:VCALENDAR
