BEGIN:VCALENDAR
VERSION:2.0
PRODID:-//ChamberMaster//Event Calendar 2.0//EN
METHOD:PUBLISH
X-PUBLISHED-TTL:P3D
REFRESH-INTERVAL:P3D
CALSCALE:GREGORIAN
BEGIN:VEVENT
DTSTART:20170329T210000Z
DTEND:20170330T010000Z
X-MICROSOFT-CDO-ALLDAYEVENT:FALSE
SUMMARY:Eating for Advocacy - Fundraising Night
DESCRIPTION:The Emerald Coast Children's Advocacy Center is having a Fundraising Night at Panera Bread in Crestview! Go to our website: www.eccac.org \, print out and bring in the Fundraising Night flyer and Panera Bread will donate a portion of the proceeds from your purchase back to the ECCAC!
X-ALT-DESC;FMTTYPE=text/html:The Emerald Coast Children&#39\;s Advocacy Center is having a Fundraising Night at Panera Bread in Crestview! Go to our website: <a href="http://www.eccac.org">www.eccac.org</a> \, print out and bring in the Fundraising Night flyer and Panera Bread will donate a portion of the proceeds from your purchase back to the ECCAC!
LOCATION:2670 S. Ferdon Blvd Crestview\, FL 32536
UID:e.1264.10790
SEQUENCE:3
DTSTAMP:20260425T173735Z
URL:https://business.crestviewchamber.com/events/details/eating-for-advocacy-fundraising-night-10790
END:VEVENT

END:VCALENDAR
