BEGIN:VCALENDAR
VERSION:2.0
PRODID:-//ChamberMaster//Event Calendar 2.0//EN
METHOD:PUBLISH
X-PUBLISHED-TTL:P3D
REFRESH-INTERVAL:P3D
CALSCALE:GREGORIAN
BEGIN:VEVENT
DTSTART:20180205T163000Z
DTEND:20180205T163000Z
X-MICROSOFT-CDO-ALLDAYEVENT:FALSE
SUMMARY:Dogwood Garden Club
DESCRIPTION:Program: Fairy Gardens
X-ALT-DESC;FMTTYPE=text/html:<span style="font-size: 14pt\;"><span style="font-family: calibri\,sans-serif\;"><strong><em>Program:&nbsp\;</em></strong></span></span><strong><em><span style="font-size: 14pt\;"><span style="font-family: calibri\;">Fairy Gardens </span></span></em></strong><br />\n<br />\n&nbsp\;
LOCATION:Sonshine Studios 426 James Lee Blvd
UID:e.1264.11400
SEQUENCE:3
DTSTAMP:20260424T235220Z
URL:https://business.crestviewchamber.com/events/details/dogwood-garden-club-11400
END:VEVENT

END:VCALENDAR
