BEGIN:VCALENDAR
VERSION:2.0
PRODID:-//ChamberMaster//Event Calendar 2.0//EN
METHOD:PUBLISH
X-PUBLISHED-TTL:P3D
REFRESH-INTERVAL:P3D
CALSCALE:GREGORIAN
BEGIN:VEVENT
DTSTART:20180108T163000Z
DTEND:20180108T173000Z
X-MICROSOFT-CDO-ALLDAYEVENT:FALSE
SUMMARY:Dogwood Garden Club
DESCRIPTION:Program: Seeds on Ice
X-ALT-DESC;FMTTYPE=text/html:<span style="font-size: 14pt\;"><span style="font-family: calibri\,sans-serif\;"><strong><em>Program:&nbsp\;</em></strong></span></span><strong><em><span style="font-size: 14pt\;"><span style="font-family: calibri\;">Seeds on Ice </span></span></em></strong><br />\n&nbsp\;
LOCATION:* Member's Home address not published
UID:e.1264.11399
SEQUENCE:3
DTSTAMP:20260425T035548Z
URL:https://business.crestviewchamber.com/events/details/dogwood-garden-club-11399
END:VEVENT

END:VCALENDAR
