BEGIN:VCALENDAR
VERSION:2.0
PRODID:-//ChamberMaster//Event Calendar 2.0//EN
METHOD:PUBLISH
X-PUBLISHED-TTL:P3D
REFRESH-INTERVAL:P3D
CALSCALE:GREGORIAN
BEGIN:VEVENT
DTSTART:20170720T230000Z
DTEND:20170721T010000Z
X-MICROSOFT-CDO-ALLDAYEVENT:FALSE
SUMMARY:Dog Walker Watch Organizational/Training
DESCRIPTION:Every day\, hundreds of pet lovers walk their dogs on the streets of Crestview\, morning\, afternoon and evening. The Crestview Police Department's Community Service division is starting a local effort under the National Association of Town Watch's Dog Walker Watch program in which these residents can learn how they can be extra eyes and ears for the police\, observing and effectively documenting and reporting unusual activity in their neighborhoods. The training program and participation in Dog Walker Watch are free. Contact Community Services Officer Wanda Hulion\, 305.2905\, or Officer Sam Kimmons\, 305.7831.
X-ALT-DESC;FMTTYPE=text/html:Every day\, hundreds of pet lovers walk their dogs on the streets of Crestview\, morning\, afternoon and evening. The Crestview Police Department&rsquo\;s Community Service division is starting a local effort under the National Association of Town Watch&rsquo\;s Dog Walker Watch program in which these residents can learn how they can be extra eyes and ears for the police\, observing and effectively documenting and reporting unusual activity in their neighborhoods. The training program and participation in Dog Walker Watch are free. Contact Community Services Officer Wanda Hulion\, 305.2905\, or Officer Sam Kimmons\, 305.7831.
LOCATION:Warriors Hall\, Whitehurst Municipal Building\, 201 Stillwell Blvd.
UID:e.1264.11009
SEQUENCE:3
DTSTAMP:20260425T112504Z
URL:https://business.crestviewchamber.com/events/details/dog-walker-watch-organizational-training-11009
END:VEVENT

END:VCALENDAR
