BEGIN:VCALENDAR
VERSION:2.0
PRODID:-//ChamberMaster//Event Calendar 2.0//EN
METHOD:PUBLISH
X-PUBLISHED-TTL:P3D
REFRESH-INTERVAL:P3D
CALSCALE:GREGORIAN
BEGIN:VEVENT
DTSTART:20161220T150000Z
DTEND:20161220T170000Z
X-MICROSOFT-CDO-ALLDAYEVENT:FALSE
SUMMARY:December Holiday KIDS Camp
DESCRIPTION:December Holidays NICEVILLE KIDS CAMPS! Age groups 3-5's and 6-11's Join us for 1 or 2 weeks of FITNESS & FUN in the NEW State of the Art Indoor facility GIRL POWER STATION Soccer..Volleyball..Yoga Indoor fitness & FUN ! December Holidays Tuesdays   Fridays 9 am   11 am week 1 - Dec. 20-23 week 2 - Dec. 27-30 Age groups   3-5's and 6-11's Purchase 4 - 2 hours classes for $79 and select which days you attend! Register NOW! -- Limited Spaces!
X-ALT-DESC;FMTTYPE=text/html:December Holidays NICEVILLE KIDS CAMPS! Age groups 3-5&rsquo\;s and 6-11&rsquo\;s Join us for 1 or 2 weeks of FITNESS &amp\; FUN in the NEW State of the Art Indoor facility GIRL POWER STATION Soccer..Volleyball..Yoga Indoor fitness &amp\; FUN ! December Holidays Tuesdays &ndash\; Fridays 9 am &ndash\; 11 am week 1 - Dec. 20-23 week 2 - Dec. 27-30 Age groups &ndash\; 3-5&rsquo\;s and 6-11&rsquo\;s Purchase 4 - 2 hours classes for $79 and select which days you attend! Register NOW! -- Limited Spaces!
LOCATION:Girl Power Station 424 W. College Blvd. Valparaiso\, Florida
UID:e.1264.10729
SEQUENCE:3
DTSTAMP:20260426T000919Z
URL:https://business.crestviewchamber.com/events/details/december-holiday-kids-camp-10729
END:VEVENT

END:VCALENDAR
