BEGIN:VCALENDAR
VERSION:2.0
PRODID:-//ChamberMaster//Event Calendar 2.0//EN
METHOD:PUBLISH
X-PUBLISHED-TTL:P3D
REFRESH-INTERVAL:P3D
CALSCALE:GREGORIAN
BEGIN:VEVENT
DTSTART:20170207T163000Z
DTEND:20170207T173000Z
X-MICROSOFT-CDO-ALLDAYEVENT:FALSE
SUMMARY:Cooking Matters with Healthy Okaloosa
DESCRIPTION:Chandra Williams with the Florida Department of Health in Okaloosa County will present "Cooking Matters with Healthy Okaloosa" for the 10:30 a.m.\, February 7th First Tuesday Talk at the Crestview Public Library. Attendees will gain hands-on learning by utilizing an onsite pop-up grocery store tour\, making easy healthy recipes\, playing interactive games\, and more.
X-ALT-DESC;FMTTYPE=text/html:&nbsp\;\n<p>Chandra Williams with the Florida Department of Health in Okaloosa County will present &quot\;Cooking Matters with Healthy Okaloosa&quot\; for the 10:30 a.m.\, February 7th First Tuesday Talk at the Crestview Public Library.&nbsp\;Attendees&nbsp\;will&nbsp\;gain hands-on learning&nbsp\;by utilizing an onsite pop-up grocery store tour\, making easy healthy recipes\, playing interactive games\, and more.</p>\n
LOCATION:Crestview Public Library 1445 Commerce Drive Crestview\, FL 32539 (behind the Post Office in north Crestview)
UID:e.1264.10725
SEQUENCE:3
DTSTAMP:20260425T200432Z
URL:https://business.crestviewchamber.com/events/details/cooking-matters-with-healthy-okaloosa-10725
END:VEVENT

END:VCALENDAR
