BEGIN:VCALENDAR
VERSION:2.0
PRODID:-//ChamberMaster//Event Calendar 2.0//EN
METHOD:PUBLISH
X-PUBLISHED-TTL:P3D
REFRESH-INTERVAL:P3D
CALSCALE:GREGORIAN
BEGIN:VEVENT
DTSTART:20161205T120000Z
DTEND:20161205T160000Z
X-MICROSOFT-CDO-ALLDAYEVENT:FALSE
SUMMARY:Commando Cookie Drive
DESCRIPTION:Commando Cookie Drive\n\n\n\nDrop off your cookies (in disposable containers) on Monday\, December 5th from 06:00 to 10:00 at the Hurlburt Chapel\n\nany type of cookies are welcomed\n\nonly label cookies made with nuts\n\ndrive-through\, cookie drop-off service provided\n\nChristmas cards with your cookies encouraged\n\nsign up to bring cookies or to help with the event http://signup.com/Xc789A\n\nfor more information contact: Hang Owen hsc.2vp@gmail.com\n\n\n\nBake cookies and provide cheer to Commando Airmen lining in the dorms!
X-ALT-DESC;FMTTYPE=text/html:Commando Cookie Drive<br />\n<br />\nDrop off your cookies (in disposable containers) on Monday\, December 5th from 06:00 to 10:00 at the Hurlburt Chapel<br />\nany type of cookies are welcomed<br />\nonly label cookies made with nuts<br />\ndrive-through\, cookie drop-off service provided<br />\nChristmas cards with your cookies encouraged<br />\nsign up to bring cookies or to help with the event <a href="http://signup.com/Xc789A">http://signup.com/Xc789A</a><br />\nfor more information contact: Hang Owen <a href="mailto:hsc.2vp@gmail.com">hsc.2vp@gmail.com</a><br />\n<br />\nBake cookies and provide cheer to Commando Airmen lining in the dorms!
LOCATION:
UID:e.1264.10695
SEQUENCE:3
DTSTAMP:20260426T000625Z
URL:https://business.crestviewchamber.com/events/details/commando-cookie-drive-10695
END:VEVENT

END:VCALENDAR
