BEGIN:VCALENDAR
VERSION:2.0
PRODID:-//ChamberMaster//Event Calendar 2.0//EN
METHOD:PUBLISH
X-PUBLISHED-TTL:P3D
REFRESH-INTERVAL:P3D
CALSCALE:GREGORIAN
BEGIN:VEVENT
DTSTART:20170720T130000Z
DTEND:20170720T150000Z
X-MICROSOFT-CDO-ALLDAYEVENT:FALSE
SUMMARY:COFFEE WITH A COP
DESCRIPTION:Enjoy free coffee while visiting with Police Chief Tony Taylor and some of his officers. Share your ideas\, complaints\, praises\, concerns\, etc. in a relaxed\, informal atmosphere. Stop by at your convenience\, grab a cup of joe and have some palaver with folks in blue.
X-ALT-DESC;FMTTYPE=text/html:Enjoy free coffee while visiting with Police Chief Tony Taylor and some of his officers. Share your ideas\, complaints\, praises\, concerns\, etc. in a relaxed\, informal atmosphere. Stop by at your convenience\, grab a cup of joe and have some palaver with folks in blue.
LOCATION:McDonald's\, James Lee Boulevard West (in front of Tractor Supply)
UID:e.1264.11008
SEQUENCE:3
DTSTAMP:20260425T101931Z
URL:https://business.crestviewchamber.com/events/details/coffee-with-a-cop-11008
END:VEVENT

END:VCALENDAR
