BEGIN:VCALENDAR
VERSION:2.0
PRODID:-//ChamberMaster//Event Calendar 2.0//EN
METHOD:PUBLISH
X-PUBLISHED-TTL:P3D
REFRESH-INTERVAL:P3D
CALSCALE:GREGORIAN
BEGIN:VEVENT
DTSTART:20170724T230000Z
DTEND:20170725T010000Z
X-MICROSOFT-CDO-ALLDAYEVENT:FALSE
SUMMARY:City of Crestview Council Meeting
DESCRIPTION:
X-ALT-DESC;FMTTYPE=text/html:
LOCATION:Crestview City Hall 198 North Wilson Street Crestview
UID:e.1264.1369
SEQUENCE:3
DTSTAMP:20260425T102124Z
URL:https://business.crestviewchamber.com/events/details/city-of-crestview-council-meeting-07-24-2017-1369
END:VEVENT

END:VCALENDAR
