BEGIN:VCALENDAR
VERSION:2.0
PRODID:-//ChamberMaster//Event Calendar 2.0//EN
METHOD:PUBLISH
X-PUBLISHED-TTL:P3D
REFRESH-INTERVAL:P3D
CALSCALE:GREGORIAN
BEGIN:VEVENT
DTSTART:20201206T000000Z
DTEND:20201206T010000Z
X-MICROSOFT-CDO-ALLDAYEVENT:FALSE
SUMMARY:Christmas Parade
DESCRIPTION:This years theme is Christmas Night of Lights. Bring the family\, and come see all the amazing floats!
X-ALT-DESC;FMTTYPE=text/html:This years theme is Christmas Night of Lights. Bring the family\, and come see all the amazing floats!
LOCATION:Downtown Crestview
UID:e.1264.13030
SEQUENCE:3
DTSTAMP:20260421T233312Z
URL:https://business.crestviewchamber.com/events/details/christmas-parade-12-05-2020-13030
END:VEVENT

END:VCALENDAR
