BEGIN:VCALENDAR
VERSION:2.0
PRODID:-//ChamberMaster//Event Calendar 2.0//EN
METHOD:PUBLISH
X-PUBLISHED-TTL:P3D
REFRESH-INTERVAL:P3D
CALSCALE:GREGORIAN
BEGIN:VEVENT
DTSTART:20161203T233000Z
DTEND:20161204T010000Z
X-MICROSOFT-CDO-ALLDAYEVENT:FALSE
SUMMARY:Christmas Parade
DESCRIPTION:Centennial Christmas Parade\n\nChristmas Through the Decades\n\n\n\n     As the Crestview Centennial year draws to a close\, the final celebration is for the merriest season of all.  The annual Christmas Parade Theme for 2016 will be "Christmas Through the Decades" of 1916-2016\, with a new feature or two earlier in the day.  The parade begins at 5:30pm. \n\nhttp://mainstreetcrestview.org/msca/forms/2016/ChristmasParadeApplication.pdf
X-ALT-DESC;FMTTYPE=text/html:Centennial Christmas Parade<br />\nChristmas Through the Decades<br />\n<br />\n&nbsp\;&nbsp\;&nbsp\;&nbsp\; As the Crestview Centennial year draws to a close\, the final celebration is for the merriest season of all.&nbsp\; The annual Christmas Parade Theme for 2016 will be &quot\;Christmas Through the Decades&quot\; of 1916-2016\, with a new feature or two earlier in the day.&nbsp\; The parade begins at 5:30pm.&nbsp\;<br />\n<a href="http://mainstreetcrestview.org/msca/forms/2016/ChristmasParadeApplication.pdf">http://mainstreetcrestview.org/msca/forms/2016/ChristmasParadeApplication.pdf</a>
LOCATION:Main Street Crestview
UID:e.1264.10696
SEQUENCE:3
DTSTAMP:20260425T224128Z
URL:https://business.crestviewchamber.com/events/details/christmas-parade-10696
END:VEVENT

END:VCALENDAR
