BEGIN:VCALENDAR
VERSION:2.0
PRODID:-//ChamberMaster//Event Calendar 2.0//EN
METHOD:PUBLISH
X-PUBLISHED-TTL:P3D
REFRESH-INTERVAL:P3D
CALSCALE:GREGORIAN
BEGIN:VEVENT
DTSTART:20201114T160000Z
DTEND:20201114T210000Z
X-MICROSOFT-CDO-ALLDAYEVENT:FALSE
SUMMARY:Christmas Market
DESCRIPTION:This event will be filled with vendors selling all kinds of Christmas goodies that would make the perfect holiday gift.
X-ALT-DESC;FMTTYPE=text/html:This event will be filled with vendors selling all kinds of Christmas goodies that would make the perfect holiday gift.
LOCATION:Downtown Crestview
UID:e.1264.13029
SEQUENCE:3
DTSTAMP:20260422T010318Z
URL:https://business.crestviewchamber.com/events/details/christmas-market-13029
END:VEVENT

END:VCALENDAR
