BEGIN:VCALENDAR
VERSION:2.0
PRODID:-//ChamberMaster//Event Calendar 2.0//EN
METHOD:PUBLISH
X-PUBLISHED-TTL:P3D
REFRESH-INTERVAL:P3D
CALSCALE:GREGORIAN
BEGIN:VEVENT
DTSTART:20190222T000000Z
DTEND:20190222T030000Z
X-MICROSOFT-CDO-ALLDAYEVENT:FALSE
SUMMARY:Blue & White Gala
DESCRIPTION:Join Rocky Bayou Christian School for the inaugural Blue & White Gala\, featuring keynote speaker Governor Mike Huckabee\, on Thursday\, February 21st at The Henderson Beach Resort in Destin. Enjoy the VIP Experience with a reception featuring a meet & greet with Gov. Huckabee and passed hors d'oeuvres from 6:00-7:00pm. The main event will begin at 7:00pm with an upscale buffet dinner and keynote address from Gov. Huckabee. There will also be a special musical performance. Mark your calendar and plan to attend this dinner and elegant evening out with Governor Mike Huckabee. For tickets and more information please visit www.blueandwhitegala.org
X-ALT-DESC;FMTTYPE=text/html:Join Rocky Bayou Christian School for the inaugural Blue &amp\; White Gala\, featuring keynote speaker Governor Mike Huckabee\, on Thursday\, February 21st at The Henderson Beach Resort in Destin. Enjoy the VIP Experience with a reception featuring a meet &amp\; greet with Gov. Huckabee and passed hors d&#39\;oeuvres from 6:00-7:00pm. The main event will begin at 7:00pm with an upscale buffet dinner and keynote address from Gov. Huckabee. There will also be a special musical performance. Mark your calendar and plan to attend this dinner and elegant evening out with Governor Mike Huckabee. For tickets and more information please visit www.blueandwhitegala.org
LOCATION:The Henderson 200 Henderson Resort Way Destin\, FL
UID:e.1264.12526
SEQUENCE:3
DTSTAMP:20260423T234443Z
URL:https://business.crestviewchamber.com/events/details/blue-white-gala-12526
END:VEVENT

END:VCALENDAR
