BEGIN:VCALENDAR
VERSION:2.0
PRODID:-//ChamberMaster//Event Calendar 2.0//EN
METHOD:PUBLISH
X-PUBLISHED-TTL:P3D
REFRESH-INTERVAL:P3D
CALSCALE:GREGORIAN
BEGIN:VEVENT
DTSTART:20170502T230000Z
DTEND:20170503T003000Z
X-MICROSOFT-CDO-ALLDAYEVENT:FALSE
SUMMARY:Artist Reception for Rebecca Lu Kiernan
DESCRIPTION:The public is cordially invited to an artist reception for Rebecca Lu Kiernan from 6-7:30 p.m. on Tuesday\, May 2nd at the Crestview Public Library. Kiernan's "Spellbinder" exhibit will be featured on the library's north gallery wall May 1st through June 30th.
X-ALT-DESC;FMTTYPE=text/html:The public is cordially invited to an artist&nbsp\;reception for Rebecca Lu Kiernan from 6-7:30 p.m. on Tuesday\, May 2nd at the Crestview Public Library. Kiernan&#39\;s &quot\;Spellbinder&quot\; exhibit will be featured on the library&#39\;s north gallery wall May 1st through June 30th.
LOCATION:Crestview Public Library 1445 Commerce Drive Crestview\, FL 32539
UID:e.1264.10807
SEQUENCE:3
DTSTAMP:20260425T124540Z
URL:https://business.crestviewchamber.com/events/details/artist-reception-for-rebecca-lu-kiernan-10807
END:VEVENT

END:VCALENDAR
